BEGIN:VCALENDAR
VERSION:2.0
PRODID:-//wp-events-plugin.com//7.2.3.1//EN
TZID:America/Los_Angeles
X-WR-TIMEZONE:America/Los_Angeles
BEGIN:VEVENT
UID:984@lvnertamid.org
DTSTART;TZID=America/Los_Angeles:20241208T091500
DTEND;TZID=America/Los_Angeles:20241208T133000
DTSTAMP:20241011T053012Z
URL:https://www.lvnertamid.org/events/cnts-sisterhoods-annual-hanukkah-and
 -holiday-bazaar/
SUMMARY:SISTERHOOD'S ANNUAL HANUKKAH AND HOLIDAY BAZAAR
DESCRIPTION:    
ATTACH;FMTTYPE=image/jpeg:https://www.lvnertamid.org/wp-content/uploads/20
 24/10/1.png
END:VEVENT
BEGIN:VTIMEZONE
TZID:America/Los_Angeles
X-LIC-LOCATION:America/Los_Angeles
BEGIN:STANDARD
DTSTART:20241103T010000
TZOFFSETFROM:-0700
TZOFFSETTO:-0800
TZNAME:PST
END:STANDARD
END:VTIMEZONE
END:VCALENDAR