BEGIN:VCALENDAR
VERSION:2.0
PRODID:-//wp-events-plugin.com//7.2.3.1//EN
TZID:America/Los_Angeles
X-WR-TIMEZONE:America/Los_Angeles
BEGIN:VEVENT
UID:804@lvnertamid.org
DTSTART;TZID=America/Los_Angeles:20240419T190000
DTEND;TZID=America/Los_Angeles:20240419T203000
DTSTAMP:20240419T145833Z
URL:https://www.lvnertamid.org/events/friday-night-shabbat-39/
SUMMARY:FRIDAY NIGHT SHABBAT AND TOWN MEETING
DESCRIPTION:\n\nJoin us for Friday Night Shabbat\, Friday\, April 19\, 202
 4\, at 7:00 p.m.\n\nAfter Services\, please attend our Town Hall Meeting 
 with Cantor Jessica Hutchings.\n\nShe’ll share her vision for Congregati
 on Ner Tamid and talk about the Temple’s Rabbinic transition in 2025.\n\
 nMISHEBERACH\, KADDISH\, AND YAHRZEIT LISTS\n\nIn our Sanctuary and virtua
 lly on Facebook and YouTube.
END:VEVENT
BEGIN:VTIMEZONE
TZID:America/Los_Angeles
X-LIC-LOCATION:America/Los_Angeles
BEGIN:DAYLIGHT
DTSTART:20240310T030000
TZOFFSETFROM:-0800
TZOFFSETTO:-0700
TZNAME:PDT
END:DAYLIGHT
END:VTIMEZONE
END:VCALENDAR