BEGIN:VCALENDAR
VERSION:2.0
PRODID:-//wp-events-plugin.com//7.2.3.1//EN
TZID:America/Los_Angeles
X-WR-TIMEZONE:America/Los_Angeles
BEGIN:VEVENT
UID:1140@lvnertamid.org
DTSTART;TZID=America/Los_Angeles:20250320T190000
DTEND;TZID=America/Los_Angeles:20250320T203000
DTSTAMP:20250319T175710Z
URL:https://www.lvnertamid.org/events/history-of-reform-judaism-who-we-hav
 e-been-who-we-are-and-why-we-do-what-we-do-with-rabbi-cookie-lea-olshein/
SUMMARY:HISTORY OF REFORM JUDAISM: WHO WE HAVE BEEN\, WHO WE ARE\, AND WHY 
 WE DO WHAT WE DO WITH RABBI COOKIE LEA OLSHEIN
DESCRIPTION:\n\nREGISTER HERE
ATTACH;FMTTYPE=image/jpeg:https://www.lvnertamid.org/wp-content/uploads/20
 25/02/26-2025-3-20-25-RABBI-OLSHEIN-REFORM-JUDAISM-ZOOM-CLASS.png
END:VEVENT
BEGIN:VTIMEZONE
TZID:America/Los_Angeles
X-LIC-LOCATION:America/Los_Angeles
BEGIN:DAYLIGHT
DTSTART:20250309T030000
TZOFFSETFROM:-0800
TZOFFSETTO:-0700
TZNAME:PDT
END:DAYLIGHT
END:VTIMEZONE
END:VCALENDAR