BEGIN:VCALENDAR
VERSION:2.0
PRODID:-//wp-events-plugin.com//7.2.3.1//EN
TZID:America/Los_Angeles
X-WR-TIMEZONE:America/Los_Angeles
BEGIN:VEVENT
UID:1406@lvnertamid.org
DTSTART;TZID=America/Los_Angeles:20251217T190000
DTEND;TZID=America/Los_Angeles:20251217T210000
DTSTAMP:20251212T035210Z
URL:https://www.lvnertamid.org/events/las-vegas-golden-knights-host-jewish
 -heritage-knight/
SUMMARY:LAS VEGAS GOLDEN KNIGHTS HOST JEWISH HERITAGE KNIGHT
DESCRIPTION:\nTHE LAS VEGAS GOLDEN KNIGHTS' JEWISH HERITAGE KNIGHT\nNew Jer
 sey Devils vs. Golden Knights\nCelebrate Hanukkah with the Vegas Golden Kn
 ights at T-Mobile Arena.\nSpecial ticket packages start at $90 each and in
 clude a Limited Edition VGK Jewish Heritage Ballcap.
ATTACH;FMTTYPE=image/jpeg:https://www.lvnertamid.org/wp-content/uploads/20
 25/12/2025-12-17-25-LAS-VEGAS-GOLDEN-KNIGHTS-HOST-JEWISH-HERITAGE-KNIGHT.j
 pg
END:VEVENT
BEGIN:VTIMEZONE
TZID:America/Los_Angeles
X-LIC-LOCATION:America/Los_Angeles
BEGIN:STANDARD
DTSTART:20251102T010000
TZOFFSETFROM:-0700
TZOFFSETTO:-0800
TZNAME:PST
END:STANDARD
END:VTIMEZONE
END:VCALENDAR