BEGIN:VCALENDAR
VERSION:2.0
PRODID:-//wp-events-plugin.com//7.2.3.1//EN
TZID:America/Los_Angeles
X-WR-TIMEZONE:America/Los_Angeles
BEGIN:VEVENT
UID:1405@lvnertamid.org
DTSTART;TZID=America/Los_Angeles:20251217T173000
DTEND;TZID=America/Los_Angeles:20251217T183000
DTSTAMP:20251212T003631Z
URL:https://www.lvnertamid.org/events/march-of-the-living-nevada-to-la-pre
 -trip-informational-zoom/
SUMMARY:MARCH OF THE LIVING "NEVADA TO LA" PRE-TRIP INFORMATIONAL ZOOM
DESCRIPTION:\n\nWe hope you can join us for an informational Zoom update on
  Wednesday\, December 17th at 5:30 p.m. PST.\n\nDuring this virtual gather
 ing\, we will have the opportunity to meet one another\, share perspective
 s as we embark on this powerful journey\, and review the itinerary and imp
 ortant logistical details for your preparation.\n\nNow\, more than ever\, 
 it is important to march in hope and remembrance and to assume the mantle 
 of "becoming witnesses to the witnesses." If you know others who may be in
 terested in learning more about potential participation\, please share thi
 s information with them.\n\nPlease register in advance for the meeting HER
 E.\n\nAfter registering\, you will receive a confirmation email containing
  the necessary information to join.
ATTACH;FMTTYPE=image/jpeg:https://www.lvnertamid.org/wp-content/uploads/20
 25/12/2025-12-17-25-MARCH-OF-THE-LIVING-NEVADA-TO-LA-PRE-TRIP-INFORMATIONA
 L-ZOOM.jpg
END:VEVENT
BEGIN:VTIMEZONE
TZID:America/Los_Angeles
X-LIC-LOCATION:America/Los_Angeles
BEGIN:STANDARD
DTSTART:20251102T010000
TZOFFSETFROM:-0700
TZOFFSETTO:-0800
TZNAME:PST
END:STANDARD
END:VTIMEZONE
END:VCALENDAR