BEGIN:VCALENDAR
VERSION:2.0
PRODID:-//wp-events-plugin.com//7.2.3.1//EN
TZID:America/Los_Angeles
X-WR-TIMEZONE:America/Los_Angeles
BEGIN:VEVENT
UID:863@lvnertamid.org
DTSTART;TZID=America/Los_Angeles:20240628T190000
DTEND;TZID=America/Los_Angeles:20240628T203000
DTSTAMP:20240626T125802Z
URL:https://www.lvnertamid.org/events/music-of-shabbat-in-the-round-featur
 ing-tom-damari/
SUMMARY:MUSIC OF SHABBAT IN THE ROUND FEATURING TOM DAMARI
DESCRIPTION:\n\nIn our Sanctuary and virtually on Facebook and YouTube.\n\n
 PLEASE NOTE THAT TOM DAMARI’S APPEARANCE WILL NOT BE LIVE-STREAMED.
ATTACH;FMTTYPE=image/jpeg:https://www.lvnertamid.org/wp-content/uploads/20
 24/06/2024-6-28-24-MUSIC-OF-SHABBAT-IN-THE-ROUND-LS-1080-x-1080-px.png
END:VEVENT
BEGIN:VTIMEZONE
TZID:America/Los_Angeles
X-LIC-LOCATION:America/Los_Angeles
BEGIN:DAYLIGHT
DTSTART:20240310T030000
TZOFFSETFROM:-0800
TZOFFSETTO:-0700
TZNAME:PDT
END:DAYLIGHT
END:VTIMEZONE
END:VCALENDAR