BEGIN:VCALENDAR
VERSION:2.0
PRODID:-//wp-events-plugin.com//7.2.3.1//EN
TZID:America/Los_Angeles
X-WR-TIMEZONE:America/Los_Angeles
BEGIN:VEVENT
UID:810@lvnertamid.org
DTSTART;TZID=America/Los_Angeles:20240426T190000
DTEND;TZID=America/Los_Angeles:20240426T203000
DTSTAMP:20240426T093859Z
URL:https://www.lvnertamid.org/events/shabbat-in-the-round-6/
SUMMARY:SHABBAT IN THE ROUND
DESCRIPTION:\n\nJoin us for Shabbat In The Round\n\nFriday\, April 26\, 202
 4\, 7:00 p.m.\n\nMISHEBERACH\, KADDISH\, AND YAHRZEIT LISTS\n\nIn our San
 ctuary and virtually on Facebook and YouTube.
END:VEVENT
BEGIN:VTIMEZONE
TZID:America/Los_Angeles
X-LIC-LOCATION:America/Los_Angeles
BEGIN:DAYLIGHT
DTSTART:20240310T030000
TZOFFSETFROM:-0800
TZOFFSETTO:-0700
TZNAME:PDT
END:DAYLIGHT
END:VTIMEZONE
END:VCALENDAR