BEGIN:VCALENDAR
VERSION:2.0
PRODID:-//wp-events-plugin.com//7.2.3.1//EN
TZID:America/Los_Angeles
X-WR-TIMEZONE:America/Los_Angeles
BEGIN:VEVENT
UID:871@lvnertamid.org
DTSTART;TZID=America/Los_Angeles:20240726T190000
DTEND;TZID=America/Los_Angeles:20240726T203000
DTSTAMP:20240726T061856Z
URL:https://www.lvnertamid.org/events/shabbat-in-the-round-7/
SUMMARY:SHABBAT IN THE ROUND
DESCRIPTION:\n\n&nbsp\;\n\nJoin Congregation Ner Tamid for Shabbat in the 
 Round\, Friday\, July 26\, at 7:00 p.m.\n\nFLYER IN MOTION: Music by Canto
 r Jessica Hutchings.\n\nMISHEBERACH\, KADDISH\, AND YAHRZEIT LISTS\n\nIn o
 ur Sanctuary and virtually on Facebook and YouTube.
END:VEVENT
BEGIN:VTIMEZONE
TZID:America/Los_Angeles
X-LIC-LOCATION:America/Los_Angeles
BEGIN:DAYLIGHT
DTSTART:20240310T030000
TZOFFSETFROM:-0800
TZOFFSETTO:-0700
TZNAME:PDT
END:DAYLIGHT
END:VTIMEZONE
END:VCALENDAR