BEGIN:VCALENDAR
VERSION:2.0
PRODID:-//wp-events-plugin.com//7.2.3.1//EN
TZID:America/Los_Angeles
X-WR-TIMEZONE:America/Los_Angeles
BEGIN:VEVENT
UID:1131@lvnertamid.org
DTSTART;TZID=America/Los_Angeles:20250228T190000
DTEND;TZID=America/Los_Angeles:20250228T203000
DTSTAMP:20250226T195942Z
URL:https://www.lvnertamid.org/events/shabbat-in-the-round-9/
SUMMARY:SHABBAT IN THE ROUND
DESCRIPTION:\n\nJOIN CONGREGATION NER TAMID FOR SHABBAT IN THE ROUND outdoo
 rs on our Patio Friday\, February 28\, at 7:00 p.m.\n\nCantor Jessica Hutc
 hings will be joined by CNT’s Musical Educator-in-Residence and Preschoo
 l teacher Glori Rosenberger\, John Henderson\, Brad Torchin\, Sarah Saiewi
 tz\, and Bar Mitzvah Joseph Roth (percussion).\n\nThis Friday Night Servic
 e will not be live streamed\, so please join us IN PERSON Friday night.\n\
 nWe’ll have an extra special oneg\, and there will be a NTTY Lounge nigh
 t for Religious School 9th – 12th graders who will enjoy food\, games\, 
 and more through 10:00 p.m.
END:VEVENT
BEGIN:VTIMEZONE
TZID:America/Los_Angeles
X-LIC-LOCATION:America/Los_Angeles
BEGIN:STANDARD
DTSTART:20241103T010000
TZOFFSETFROM:-0700
TZOFFSETTO:-0800
TZNAME:PST
END:STANDARD
END:VTIMEZONE
END:VCALENDAR