BEGIN:VCALENDAR
VERSION:2.0
PRODID:-//wp-events-plugin.com//7.2.3.1//EN
TZID:America/Los_Angeles
X-WR-TIMEZONE:America/Los_Angeles
BEGIN:VEVENT
UID:1549@lvnertamid.org
DTSTART;TZID=America/Los_Angeles:20260424T190000
DTEND;TZID=America/Los_Angeles:20260424T203000
DTSTAMP:20260421T223450Z
URL:https://www.lvnertamid.org/events/shabbat-services-kdoshim-holiness-fo
 r-the-21st-century/
SUMMARY:SHABBAT SERVICES - K’DOSHIM: HOLINESS FOR THE 21ST CENTURY
DESCRIPTION:\n\nMORE INFORMATION
ATTACH;FMTTYPE=image/jpeg:https://www.lvnertamid.org/wp-content/uploads/20
 26/04/2026-4-24-26-SHABBAT-SERVICES-SQUARE.jpg
END:VEVENT
BEGIN:VTIMEZONE
TZID:America/Los_Angeles
X-LIC-LOCATION:America/Los_Angeles
BEGIN:DAYLIGHT
DTSTART:20260308T030000
TZOFFSETFROM:-0800
TZOFFSETTO:-0700
TZNAME:PDT
END:DAYLIGHT
END:VTIMEZONE
END:VCALENDAR