BEGIN:VCALENDAR
VERSION:2.0
PRODID:-//wp-events-plugin.com//7.2.3.1//EN
TZID:America/Los_Angeles
X-WR-TIMEZONE:America/Los_Angeles
BEGIN:VEVENT
UID:1277@lvnertamid.org
DTSTART;TZID=America/Los_Angeles:20250907T120000
DTEND;TZID=America/Los_Angeles:20250907T133000
DTSTAMP:20250822T043109Z
URL:https://www.lvnertamid.org/events/teeny-tiny-ntty-family-fun-day/
SUMMARY:TEENY TINY NTTY FAMILY FUN DAY
DESCRIPTION:\n\nMORE INFO
ATTACH;FMTTYPE=image/jpeg:https://www.lvnertamid.org/wp-content/uploads/20
 25/08/2025-9-7-25-TEENY-TINY-NTTY-FAMILY-FUN-DAY.png
END:VEVENT
BEGIN:VTIMEZONE
TZID:America/Los_Angeles
X-LIC-LOCATION:America/Los_Angeles
BEGIN:DAYLIGHT
DTSTART:20250309T030000
TZOFFSETFROM:-0800
TZOFFSETTO:-0700
TZNAME:PDT
END:DAYLIGHT
END:VTIMEZONE
END:VCALENDAR