BEGIN:VCALENDAR
VERSION:2.0
PRODID:-//wp-events-plugin.com//7.2.3.1//EN
TZID:America/Los_Angeles
X-WR-TIMEZONE:America/Los_Angeles
BEGIN:VEVENT
UID:1174@lvnertamid.org
DTSTART;TZID=America/Los_Angeles:20250420T183000
DTEND;TZID=America/Los_Angeles:20250420T190000
DTSTAMP:20250416T144705Z
URL:https://www.lvnertamid.org/events/yizkor-service-2/
SUMMARY:YIZKOR SERVICE
DESCRIPTION:
END:VEVENT
BEGIN:VTIMEZONE
TZID:America/Los_Angeles
X-LIC-LOCATION:America/Los_Angeles
BEGIN:DAYLIGHT
DTSTART:20250309T030000
TZOFFSETFROM:-0800
TZOFFSETTO:-0700
TZNAME:PDT
END:DAYLIGHT
END:VTIMEZONE
END:VCALENDAR